BEGIN:VCALENDAR
VERSION:2.0
PRODID:-//Just Workers - ECPv6.5.1.4//NONSGML v1.0//EN
CALSCALE:GREGORIAN
METHOD:PUBLISH
X-WR-CALNAME:Just Workers
X-ORIGINAL-URL:https://justworkers.com
X-WR-CALDESC:Events for Just Workers
REFRESH-INTERVAL;VALUE=DURATION:PT1H
X-Robots-Tag:noindex
X-PUBLISHED-TTL:PT1H
BEGIN:VTIMEZONE
TZID:Asia/Kolkata
BEGIN:STANDARD
TZOFFSETFROM:+0530
TZOFFSETTO:+0530
TZNAME:IST
DTSTART:20220101T000000
END:STANDARD
END:VTIMEZONE
BEGIN:VEVENT
DTSTART;VALUE=DATE:20231111
DTEND;VALUE=DATE:20240213
DTSTAMP:20260421T022111
CREATED:20140730T190401Z
LAST-MODIFIED:20140730T190401Z
UID:8708-1699680600-1707715799@justworkers.com
SUMMARY:Top 10 Move in Tips
DESCRIPTION:Event description\n\n	\n	\n	\n\n\n	\n		\n	We’ve seen a thing or two when it comes to the cleanliness of homes. Read below to find out the most commonly overlooked areas in the kitchen & learn how to quickly clean them. \n\n	\n\n\n\n			\n	\n	\n		\n	\n	\n	Programme structure\n\n	\n	\n	\n\n\n	\n		\n	Your Neglected Dish Rack \nSponges \nThe Microwave \nThe Garbage Disposal & Sink Drain
URL:https://justworkers.com/classes/top-10-move-in-tips/
LOCATION:New York Ardesia Bar\, Lexington Avenue\, New York\, NY\, 10022\, United States
CATEGORIES:Commercial,Design,Engineering
ATTACH;FMTTYPE=:
ORGANIZER;CN="Michael":MAILTO:junk@vamtam.com
END:VEVENT
BEGIN:VEVENT
DTSTART;TZID=Asia/Kolkata:20231101T133000
DTEND;TZID=Asia/Kolkata:20250728T223000
DTSTAMP:20260421T022111
CREATED:20140730T190116Z
LAST-MODIFIED:20140730T190116Z
UID:9272-1698845400-1753741800@justworkers.com
SUMMARY:Tiling Workshop
DESCRIPTION:Event description\n\n	\n	\n	\n\n\n	\n		\n	We’ve seen a thing or two when it comes to the cleanliness of homes. Read below to find out the most commonly overlooked areas in the kitchen & learn how to quickly clean them. \n\n	\n\n\n\n			\n	\n	\n		\n	\n	\n	Programme structure\n\n	\n	\n	\n\n\n	\n		\n	Your Neglected Dish Rack \nSponges \nThe Microwave \nThe Garbage Disposal & Sink Drain
URL:https://justworkers.com/classes/tiling-workshop/
LOCATION:New York Ardesia Bar\, Lexington Avenue\, New York\, NY\, 10022\, United States
CATEGORIES:Cleaning,Design,Engineering,Workshops
ATTACH;FMTTYPE=:
ORGANIZER;CN="Michael":MAILTO:junk@vamtam.com
END:VEVENT
BEGIN:VEVENT
DTSTART;VALUE=DATE:20221109
DTEND;VALUE=DATE:20230312
DTSTAMP:20260421T022111
CREATED:20140730T190656Z
LAST-MODIFIED:20140730T190656Z
UID:8178-1667971800-1678512599@justworkers.com
SUMMARY:Common Home Maintenance Myths
DESCRIPTION:Event description\n\n	\n	\n	\n\n\n	\n		\n	We’ve seen a thing or two when it comes to the cleanliness of homes. Read below to find out the most commonly overlooked areas in the kitchen & learn how to quickly clean them. \n\n	\n\n\n\n			\n	\n	\n		\n	\n	\n	Programme structure\n\n	\n	\n	\n\n\n	\n		\n	Your Neglected Dish Rack \nSponges \nThe Microwave \nThe Garbage Disposal & Sink Drain
URL:https://justworkers.com/classes/common-home-maintenance-myths/
LOCATION:New York Ardesia Bar\, Lexington Avenue\, New York\, NY\, 10022\, United States
CATEGORIES:Cleaning,Commercial,Design,Engineering
ATTACH;FMTTYPE=:
ORGANIZER;CN="Michael & Ashley":MAILTO:junk@vamtam.com
END:VEVENT
BEGIN:VEVENT
DTSTART;TZID=Asia/Kolkata:20221003T133000
DTEND;TZID=Asia/Kolkata:20231003T143000
DTSTAMP:20260421T022111
CREATED:20140730T190656Z
LAST-MODIFIED:20140730T190656Z
UID:8180-1664803800-1696343400@justworkers.com
SUMMARY:Picture Hanging Workshop
DESCRIPTION:Event description\n\n	\n	\n	\n\n\n	\n		\n	We’ve seen a thing or two when it comes to the cleanliness of homes. Read below to find out the most commonly overlooked areas in the kitchen & learn how to quickly clean them. \n\n	\n\n\n\n			\n	\n	\n		\n	\n	\n	Programme structure\n\n	\n	\n	\n\n\n	\n		\n	Your Neglected Dish Rack \nSponges \nThe Microwave \nThe Garbage Disposal & Sink Drain
URL:https://justworkers.com/classes/picture-hanging-workshop/
LOCATION:New York Ardesia Bar\, Lexington Avenue\, New York\, NY\, 10022\, United States
CATEGORIES:Cleaning,Design,Engineering
ATTACH;FMTTYPE=:
ORGANIZER;CN="Michael & Ashley":MAILTO:junk@vamtam.com
END:VEVENT
END:VCALENDAR