BEGIN:VCALENDAR
VERSION:2.0
PRODID:-//Just Workers - ECPv6.5.1.4//NONSGML v1.0//EN
CALSCALE:GREGORIAN
METHOD:PUBLISH
X-WR-CALNAME:Just Workers
X-ORIGINAL-URL:https://justworkers.com
X-WR-CALDESC:Events for Just Workers
REFRESH-INTERVAL;VALUE=DURATION:PT1H
X-Robots-Tag:noindex
X-PUBLISHED-TTL:PT1H
BEGIN:VTIMEZONE
TZID:Asia/Kolkata
BEGIN:STANDARD
TZOFFSETFROM:+0530
TZOFFSETTO:+0530
TZNAME:IST
DTSTART:20210101T000000
END:STANDARD
END:VTIMEZONE
BEGIN:VEVENT
DTSTART;VALUE=DATE:20231111
DTEND;VALUE=DATE:20240213
DTSTAMP:20260421T230434
CREATED:20140730T190401Z
LAST-MODIFIED:20140730T190401Z
UID:8708-1699680600-1707715799@justworkers.com
SUMMARY:Top 10 Move in Tips
DESCRIPTION:Event description\n\n	\n	\n	\n\n\n\n	\n\n\n			\n	\n	\n		\n	Get some super stylish inspiration for making the most of small spaces. Whether you’re all about studio living in the city\, or have a small space in your home that could do with a refresh\, it’s amazing what a clever choice of paint color\, furnishings and decor can do to create a sense of space. \nIt’s easy to think of studio apartments as one big compromise. You can’t buy everything your heart desires\, let along fit it all into the space. But these apartments show that living in one room is enough – you can have everything you need\, and it can come in a stylish package with some carefully chosen decor and smart storage decisions. \n\n	\n\n\n\n			\n	\n	\n		\n	By the end of this 3-month interactive live online course you will learn how to: \n◎ Use feature furniture\n◎ Try neutral colors with bold prints\n◎ Raise your bed\n◎ Storage in every square inch\n◎ Be clever with your corners\n◎ Double up your decor\n◎ Learn and apply good maintenance practices
URL:https://justworkers.com/classes/top-10-move-in-tips/
LOCATION:New York Ardesia Bar\, Lexington Avenue\, New York\, NY\, 10022\, United States
CATEGORIES:Commercial,Design,Engineering
ATTACH;FMTTYPE=:
ORGANIZER;CN="Michael":MAILTO:junk@vamtam.com
END:VEVENT
BEGIN:VEVENT
DTSTART;TZID=Asia/Kolkata:20231101T133000
DTEND;TZID=Asia/Kolkata:20250728T223000
DTSTAMP:20260421T230434
CREATED:20140730T190116Z
LAST-MODIFIED:20140730T190116Z
UID:9272-1698845400-1753741800@justworkers.com
SUMMARY:Tiling Workshop
DESCRIPTION:Event description\n\n	\n	\n	\n\n\n\n	\n\n\n			\n	\n	\n		\n	Get some super stylish inspiration for making the most of small spaces. Whether you’re all about studio living in the city\, or have a small space in your home that could do with a refresh\, it’s amazing what a clever choice of paint color\, furnishings and decor can do to create a sense of space. \nIt’s easy to think of studio apartments as one big compromise. You can’t buy everything your heart desires\, let along fit it all into the space. But these apartments show that living in one room is enough – you can have everything you need\, and it can come in a stylish package with some carefully chosen decor and smart storage decisions. \n\n	\n\n\n\n			\n	\n	\n		\n	By the end of this 3-month interactive live online course you will learn how to: \n◎ Use feature furniture\n◎ Try neutral colors with bold prints\n◎ Raise your bed\n◎ Storage in every square inch\n◎ Be clever with your corners\n◎ Double up your decor\n◎ Learn and apply good maintenance practices
URL:https://justworkers.com/classes/tiling-workshop/
LOCATION:New York Ardesia Bar\, Lexington Avenue\, New York\, NY\, 10022\, United States
CATEGORIES:Cleaning,Design,Engineering,Workshops
ATTACH;FMTTYPE=:
ORGANIZER;CN="Michael":MAILTO:junk@vamtam.com
END:VEVENT
BEGIN:VEVENT
DTSTART;TZID=Asia/Kolkata:20221110T133000
DTEND;TZID=Asia/Kolkata:20230901T143000
DTSTAMP:20260421T230434
CREATED:20140730T190656Z
LAST-MODIFIED:20140730T190656Z
UID:8179-1668087000-1693578600@justworkers.com
SUMMARY:Creating Studio Space and Style
DESCRIPTION:Event description\n\n	\n	\n	\n\n\n\n	\n\n\n			\n	\n	\n		\n	Get some super stylish inspiration for making the most of small spaces. Whether you’re all about studio living in the city\, or have a small space in your home that could do with a refresh\, it’s amazing what a clever choice of paint color\, furnishings and decor can do to create a sense of space. \nIt’s easy to think of studio apartments as one big compromise. You can’t buy everything your heart desires\, let along fit it all into the space. But these apartments show that living in one room is enough – you can have everything you need\, and it can come in a stylish package with some carefully chosen decor and smart storage decisions. \n\n	\n\n\n\n			\n	\n	\n		\n	By the end of this 3-month interactive live online course you will learn how to: \n◎ Use feature furniture\n◎ Try neutral colors with bold prints\n◎ Raise your bed\n◎ Storage in every square inch\n◎ Be clever with your corners\n◎ Double up your decor\n◎ Learn and apply good maintenance practices
URL:https://justworkers.com/classes/creating-studio-space-and-style/
LOCATION:New York Ardesia Bar\, Lexington Avenue\, New York\, NY\, 10022\, United States
CATEGORIES:Cleaning,Commercial,Workshops
ATTACH;FMTTYPE=:
ORGANIZER;CN="Michael & Ashley":MAILTO:junk@vamtam.com
END:VEVENT
BEGIN:VEVENT
DTSTART;VALUE=DATE:20221109
DTEND;VALUE=DATE:20230312
DTSTAMP:20260421T230434
CREATED:20140730T190656Z
LAST-MODIFIED:20140730T190656Z
UID:8178-1667971800-1678512599@justworkers.com
SUMMARY:Common Home Maintenance Myths
DESCRIPTION:Event description\n\n	\n	\n	\n\n\n\n	\n\n\n			\n	\n	\n		\n	Get some super stylish inspiration for making the most of small spaces. Whether you’re all about studio living in the city\, or have a small space in your home that could do with a refresh\, it’s amazing what a clever choice of paint color\, furnishings and decor can do to create a sense of space. \nIt’s easy to think of studio apartments as one big compromise. You can’t buy everything your heart desires\, let along fit it all into the space. But these apartments show that living in one room is enough – you can have everything you need\, and it can come in a stylish package with some carefully chosen decor and smart storage decisions. \n\n	\n\n\n\n			\n	\n	\n		\n	By the end of this 3-month interactive live online course you will learn how to: \n◎ Use feature furniture\n◎ Try neutral colors with bold prints\n◎ Raise your bed\n◎ Storage in every square inch\n◎ Be clever with your corners\n◎ Double up your decor\n◎ Learn and apply good maintenance practices
URL:https://justworkers.com/classes/common-home-maintenance-myths/
LOCATION:New York Ardesia Bar\, Lexington Avenue\, New York\, NY\, 10022\, United States
CATEGORIES:Cleaning,Commercial,Design,Engineering
ATTACH;FMTTYPE=:
ORGANIZER;CN="Michael & Ashley":MAILTO:junk@vamtam.com
END:VEVENT
BEGIN:VEVENT
DTSTART;TZID=Asia/Kolkata:20221106T133000
DTEND;TZID=Asia/Kolkata:20230901T223000
DTSTAMP:20260421T230434
CREATED:20140730T190116Z
LAST-MODIFIED:20140730T190116Z
UID:9209-1667741400-1693607400@justworkers.com
SUMMARY:Clany at Web Summit
DESCRIPTION:Event description\n\n	\n	\n	\n\n\n\n	\n\n\n			\n	\n	\n		\n	Get some super stylish inspiration for making the most of small spaces. Whether you’re all about studio living in the city\, or have a small space in your home that could do with a refresh\, it’s amazing what a clever choice of paint color\, furnishings and decor can do to create a sense of space. \nIt’s easy to think of studio apartments as one big compromise. You can’t buy everything your heart desires\, let along fit it all into the space. But these apartments show that living in one room is enough – you can have everything you need\, and it can come in a stylish package with some carefully chosen decor and smart storage decisions. \n\n	\n\n\n\n			\n	\n	\n		\n	By the end of this 3-month interactive live online course you will learn how to: \n◎ Use feature furniture\n◎ Try neutral colors with bold prints\n◎ Raise your bed\n◎ Storage in every square inch\n◎ Be clever with your corners\n◎ Double up your decor\n◎ Learn and apply good maintenance practices
URL:https://justworkers.com/classes/clany-at-web-summit/
LOCATION:New York Ardesia Bar\, Lexington Avenue\, New York\, NY\, 10022\, United States
CATEGORIES:Cleaning,Engineering,Management,Workshops
ATTACH;FMTTYPE=:
ORGANIZER;CN="Michael":MAILTO:junk@vamtam.com
END:VEVENT
BEGIN:VEVENT
DTSTART;TZID=Asia/Kolkata:20221101T123000
DTEND;TZID=Asia/Kolkata:20231031T163000
DTSTAMP:20260421T230434
CREATED:20140730T190401Z
LAST-MODIFIED:20140730T190401Z
UID:9293-1667305800-1698769800@justworkers.com
SUMMARY:Clany at TechCrunch Disrupt NY
DESCRIPTION:Event description\n\n	\n	\n	\n\n\n\n	\n\n\n			\n	\n	\n		\n	Get some super stylish inspiration for making the most of small spaces. Whether you’re all about studio living in the city\, or have a small space in your home that could do with a refresh\, it’s amazing what a clever choice of paint color\, furnishings and decor can do to create a sense of space. \nIt’s easy to think of studio apartments as one big compromise. You can’t buy everything your heart desires\, let along fit it all into the space. But these apartments show that living in one room is enough – you can have everything you need\, and it can come in a stylish package with some carefully chosen decor and smart storage decisions. \n\n	\n\n\n\n			\n	\n	\n		\n	By the end of this 3-month interactive live online course you will learn how to: \n◎ Use feature furniture\n◎ Try neutral colors with bold prints\n◎ Raise your bed\n◎ Storage in every square inch\n◎ Be clever with your corners\n◎ Double up your decor\n◎ Learn and apply good maintenance practices
URL:https://justworkers.com/classes/clany-at-techcrunch-disrupt-ny/
LOCATION:New York Ardesia Bar\, Lexington Avenue\, New York\, NY\, 10022\, United States
CATEGORIES:Cleaning,Engineering,Workshops
ATTACH;FMTTYPE=:
ORGANIZER;CN="Michael":MAILTO:junk@vamtam.com
END:VEVENT
BEGIN:VEVENT
DTSTART;VALUE=DATE:20221101
DTEND;VALUE=DATE:20230504
DTSTAMP:20260421T230434
CREATED:20140730T190401Z
LAST-MODIFIED:20140730T190401Z
UID:9292-1667280600-1683091799@justworkers.com
SUMMARY:Clean & Stylish Holiday Decoration
DESCRIPTION:Event description\n\n	\n	\n	\n\n\n\n	\n\n\n			\n	\n	\n		\n	Get some super stylish inspiration for making the most of small spaces. Whether you’re all about studio living in the city\, or have a small space in your home that could do with a refresh\, it’s amazing what a clever choice of paint color\, furnishings and decor can do to create a sense of space. \nIt’s easy to think of studio apartments as one big compromise. You can’t buy everything your heart desires\, let along fit it all into the space. But these apartments show that living in one room is enough – you can have everything you need\, and it can come in a stylish package with some carefully chosen decor and smart storage decisions. \n\n	\n\n\n\n			\n	\n	\n		\n	By the end of this 3-month interactive live online course you will learn how to: \n◎ Use feature furniture\n◎ Try neutral colors with bold prints\n◎ Raise your bed\n◎ Storage in every square inch\n◎ Be clever with your corners\n◎ Double up your decor\n◎ Learn and apply good maintenance practices
URL:https://justworkers.com/classes/clean-stylish-holiday-decoration/
LOCATION:New York Ardesia Bar\, Lexington Avenue\, New York\, NY\, 10022\, United States
CATEGORIES:Commercial,Engineering,Management,Workshops
ATTACH;FMTTYPE=:
ORGANIZER;CN="Michael":MAILTO:junk@vamtam.com
END:VEVENT
BEGIN:VEVENT
DTSTART;TZID=Asia/Kolkata:20221003T133000
DTEND;TZID=Asia/Kolkata:20231003T143000
DTSTAMP:20260421T230434
CREATED:20140730T190656Z
LAST-MODIFIED:20140730T190656Z
UID:8180-1664803800-1696343400@justworkers.com
SUMMARY:Picture Hanging Workshop
DESCRIPTION:Event description\n\n	\n	\n	\n\n\n\n	\n\n\n			\n	\n	\n		\n	Get some super stylish inspiration for making the most of small spaces. Whether you’re all about studio living in the city\, or have a small space in your home that could do with a refresh\, it’s amazing what a clever choice of paint color\, furnishings and decor can do to create a sense of space. \nIt’s easy to think of studio apartments as one big compromise. You can’t buy everything your heart desires\, let along fit it all into the space. But these apartments show that living in one room is enough – you can have everything you need\, and it can come in a stylish package with some carefully chosen decor and smart storage decisions. \n\n	\n\n\n\n			\n	\n	\n		\n	By the end of this 3-month interactive live online course you will learn how to: \n◎ Use feature furniture\n◎ Try neutral colors with bold prints\n◎ Raise your bed\n◎ Storage in every square inch\n◎ Be clever with your corners\n◎ Double up your decor\n◎ Learn and apply good maintenance practices
URL:https://justworkers.com/classes/picture-hanging-workshop/
LOCATION:New York Ardesia Bar\, Lexington Avenue\, New York\, NY\, 10022\, United States
CATEGORIES:Cleaning,Design,Engineering
ATTACH;FMTTYPE=:
ORGANIZER;CN="Michael & Ashley":MAILTO:junk@vamtam.com
END:VEVENT
BEGIN:VEVENT
DTSTART;TZID=Asia/Kolkata:20211231T133000
DTEND;TZID=Asia/Kolkata:20230101T223000
DTSTAMP:20260421T230434
CREATED:20140730T190116Z
LAST-MODIFIED:20140730T190116Z
UID:9273-1640957400-1672612200@justworkers.com
SUMMARY:F.ounders / START NY
DESCRIPTION:Event description\n\n	\n	\n	\n\n\n\n	\n\n\n			\n	\n	\n		\n	Get some super stylish inspiration for making the most of small spaces. Whether you’re all about studio living in the city\, or have a small space in your home that could do with a refresh\, it’s amazing what a clever choice of paint color\, furnishings and decor can do to create a sense of space. \nIt’s easy to think of studio apartments as one big compromise. You can’t buy everything your heart desires\, let along fit it all into the space. But these apartments show that living in one room is enough – you can have everything you need\, and it can come in a stylish package with some carefully chosen decor and smart storage decisions. \n\n	\n\n\n\n			\n	\n	\n		\n	By the end of this 3-month interactive live online course you will learn how to: \n◎ Use feature furniture\n◎ Try neutral colors with bold prints\n◎ Raise your bed\n◎ Storage in every square inch\n◎ Be clever with your corners\n◎ Double up your decor\n◎ Learn and apply good maintenance practices
URL:https://justworkers.com/classes/f-ounders-start-ny/
LOCATION:New York Ardesia Bar\, Lexington Avenue\, New York\, NY\, 10022\, United States
CATEGORIES:Cleaning,Engineering,Management
ATTACH;FMTTYPE=:
ORGANIZER;CN="Michael":MAILTO:junk@vamtam.com
END:VEVENT
END:VCALENDAR